BEGIN:VCALENDAR
VERSION:2.0
PRODID:calendify.com
BEGIN:VEVENT
UID:calendify-session-ky1O7rbe4eQ
DTSTART:20201227T112000Z
SEQUENCE:0
TRANSP:OPAQUE
DTEND:20201227T115000Z
URL:https://calendify.com/session/ky1O7rbe4eQ
LOCATION:rC1
SUMMARY:#rC3 Eröffnung
CLASS:PUBLIC
DESCRIPTION:https://calendify.com/session/ky1O7rbe4eQ
DTSTAMP:20260423T162038Z
CREATED:20201221T231541Z
LAST-MODIFIED:20211226T143334Z
END:VEVENT
END:VCALENDAR