BEGIN:VCALENDAR
VERSION:2.0
PRODID:calendify.com
BEGIN:VEVENT
UID:calendify-session-kz146007MPR
DTSTART:20210206T150000Z
SEQUENCE:0
TRANSP:OPAQUE
DTEND:20210206T153000Z
URL:https://calendify.com/session/kz146007MPR
LOCATION:D.emulator
SUMMARY:The Ides of RISC-V
CLASS:PUBLIC
DESCRIPTION:https://calendify.com/session/kz146007MPR
DTSTAMP:20260419T194545Z
CREATED:20210111T170318Z
LAST-MODIFIED:20210208T224802Z
END:VEVENT
END:VCALENDAR