BEGIN:VCALENDAR
VERSION:2.0
PRODID:calendify.com
BEGIN:VEVENT
UID:calendify-session-kz146035MPR
DTSTART:20210206T144000Z
SEQUENCE:0
TRANSP:OPAQUE
DTEND:20210206T150500Z
URL:https://calendify.com/session/kz146035MPR
LOCATION:D.mariadb
SUMMARY:How to shard MariaDB like a Pro?
CLASS:PUBLIC
DESCRIPTION:https://calendify.com/session/kz146035MPR
DTSTAMP:20260419T211424Z
CREATED:20210201T190823Z
LAST-MODIFIED:20210208T224802Z
END:VEVENT
END:VCALENDAR