BEGIN:VCALENDAR
VERSION:2.0
PRODID:calendify.com
BEGIN:VEVENT
UID:calendify-session-kz146061MPR
DTSTART:20210207T120000Z
SEQUENCE:0
TRANSP:OPAQUE
DTEND:20210207T122000Z
URL:https://calendify.com/session/kz146061MPR
LOCATION:L.lightningtalks
SUMMARY:25 languages in 25 days
CLASS:PUBLIC
DESCRIPTION:https://calendify.com/session/kz146061MPR
DTSTAMP:20260419T211434Z
CREATED:20210114T155443Z
LAST-MODIFIED:20210208T224803Z
END:VEVENT
END:VCALENDAR