BEGIN:VCALENDAR
VERSION:2.0
PRODID:calendify.com
BEGIN:VEVENT
UID:calendify-session-kz14608QMPR
DTSTART:20210207T134000Z
SEQUENCE:0
TRANSP:OPAQUE
DTEND:20210207T142000Z
URL:https://calendify.com/session/kz14608QMPR
LOCATION:D.geospatial
SUMMARY:r.accumulate: Efficient computation of hydrologic parameters in GRA
 SS
CLASS:PUBLIC
DESCRIPTION:https://calendify.com/session/kz14608QMPR
DTSTAMP:20260423T134438Z
CREATED:20210111T170320Z
LAST-MODIFIED:20210208T224804Z
END:VEVENT
END:VCALENDAR