BEGIN:VCALENDAR
VERSION:2.0
PRODID:calendify.com
BEGIN:VEVENT
UID:calendify-session-kz146090MPR
DTSTART:20201229T193000Z
SEQUENCE:0
TRANSP:OPAQUE
DTEND:20201229T203000Z
URL:https://calendify.com/session/kz146090MPR
LOCATION:OIO/A:F Workshop
SUMMARY:Meet CADUS
CLASS:PUBLIC
DESCRIPTION:https://calendify.com/session/kz146090MPR
DTSTAMP:20260421T053156Z
CREATED:20210113T024803Z
LAST-MODIFIED:20210114T154804Z
END:VEVENT
END:VCALENDAR