BEGIN:VCALENDAR
VERSION:2.0
PRODID:calendify.com
BEGIN:VEVENT
UID:calendify-session-kz1460LJMPR
DTSTART:20201230T190000Z
SEQUENCE:0
TRANSP:OPAQUE
DTEND:20201230T200000Z
URL:https://calendify.com/session/kz1460LJMPR
LOCATION:Bitwäscherei Zürich
SUMMARY:YOOROO DUB
CLASS:PUBLIC
DESCRIPTION:https://calendify.com/session/kz1460LJMPR
DTSTAMP:20260423T121914Z
CREATED:20201230T044803Z
LAST-MODIFIED:20210114T154804Z
END:VEVENT
END:VCALENDAR