BEGIN:VCALENDAR
VERSION:2.0
PRODID:calendify.com
BEGIN:VEVENT
UID:calendify-session-kz1460V5MPR
DTSTART:20210206T083000Z
SEQUENCE:0
TRANSP:OPAQUE
DTEND:20210206T090000Z
URL:https://calendify.com/session/kz1460V5MPR
LOCATION:S.unikraft
SUMMARY:Welcome to the stand for Unikraft
CLASS:PUBLIC
DESCRIPTION:https://calendify.com/session/kz1460V5MPR
DTSTAMP:20260423T134058Z
CREATED:20210125T190821Z
LAST-MODIFIED:20210208T224803Z
END:VEVENT
END:VCALENDAR