BEGIN:VCALENDAR
VERSION:2.0
PRODID:calendify.com
BEGIN:VEVENT
UID:calendify-session-kz1468ZQMPR
DTSTART:20260131T120000Z
SEQUENCE:0
TRANSP:OPAQUE
DTEND:20260131T121000Z
URL:https://calendify.com/session/kz1468ZQMPR
LOCATION:K.3.201
SUMMARY:PURL: From FOSDEM 2018 to international standard
CLASS:PUBLIC
DESCRIPTION:https://calendify.com/session/kz1468ZQMPR
DTSTAMP:20260424T100754Z
CREATED:20260131T063240Z
LAST-MODIFIED:20260201T163221Z
END:VEVENT
END:VCALENDAR