BEGIN:VCALENDAR
VERSION:2.0
PRODID:calendify.com
BEGIN:VEVENT
UID:calendify-session-kz146AaVgPR
DTSTART:20241228T170000Z
SEQUENCE:0
TRANSP:OPAQUE
DTEND:20241228T180000Z
URL:https://calendify.com/session/kz146AaVgPR
LOCATION:Chaos Computer Music Club
SUMMARY:ill struct - live Band
CLASS:PUBLIC
DESCRIPTION:https://calendify.com/session/kz146AaVgPR
DTSTAMP:20260423T174809Z
CREATED:20241227T141505Z
LAST-MODIFIED:20250101T225002Z
END:VEVENT
END:VCALENDAR