BEGIN:VCALENDAR
VERSION:2.0
PRODID:calendify.com
BEGIN:VEVENT
UID:calendify-session-kz146AlVgPR
DTSTART:20241228T093000Z
SEQUENCE:0
TRANSP:OPAQUE
DTEND:20241228T113000Z
URL:https://calendify.com/session/kz146AlVgPR
LOCATION:Hardware Hacking Area -- Upper
SUMMARY:IoT with Arduino Cloud: Beginner‐ Friendly Workshop
CLASS:PUBLIC
DESCRIPTION:https://calendify.com/session/kz146AlVgPR
DTSTAMP:20260423T162509Z
CREATED:20241227T141506Z
LAST-MODIFIED:20251019T194651Z
END:VEVENT
END:VCALENDAR