BEGIN:VCALENDAR
VERSION:2.0
PRODID:calendify.com
BEGIN:VEVENT
UID:calendify-session-kz146E3qgPR
DTSTART:20201230T140000Z
SEQUENCE:0
TRANSP:OPAQUE
DTEND:20201230T150000Z
URL:https://calendify.com/session/kz146E3qgPR
LOCATION:rC2
SUMMARY:Rückblick auf ein turbulentes Jahr digitale Schule
CLASS:PUBLIC
DESCRIPTION:https://calendify.com/session/kz146E3qgPR
DTSTAMP:20260422T012747Z
CREATED:20201221T231542Z
LAST-MODIFIED:20210114T154804Z
END:VEVENT
END:VCALENDAR