BEGIN:VCALENDAR
VERSION:2.0
PRODID:calendify.com
BEGIN:VEVENT
UID:calendify-session-kz146E5wgPR
DTSTART:20180330T184500Z
SEQUENCE:0
TRANSP:OPAQUE
DTEND:20180330T204500Z
URL:https://calendify.com/session/kz146E5wgPR
LOCATION:Heisenberg 4
SUMMARY:Regiotreffen
CLASS:PUBLIC
DESCRIPTION:https://calendify.com/session/kz146E5wgPR
DTSTAMP:20260422T012747Z
CREATED:20200520T231946Z
LAST-MODIFIED:20200520T231946Z
END:VEVENT
END:VCALENDAR