BEGIN:VCALENDAR
VERSION:2.0
PRODID:calendify.com
BEGIN:VEVENT
UID:calendify-session-kz146ElqgPR
DTSTART:20190922T090000Z
SEQUENCE:0
TRANSP:OPAQUE
DTEND:20190922T094500Z
URL:https://calendify.com/session/kz146ElqgPR
LOCATION:Zentralwerk Hof
SUMMARY:Hofprogramm Sonntag ↓↓↓
CLASS:PUBLIC
DESCRIPTION:https://calendify.com/session/kz146ElqgPR
DTSTAMP:20260424T002826Z
CREATED:20200610T174346Z
LAST-MODIFIED:20200610T174346Z
END:VEVENT
END:VCALENDAR