BEGIN:VCALENDAR
VERSION:2.0
PRODID:calendify.com
BEGIN:VEVENT
UID:calendify-session-kz146GkqOPR
DTSTART:20191228T103000Z
SEQUENCE:0
TRANSP:OPAQUE
DTEND:20191228T113000Z
URL:https://calendify.com/session/kz146GkqOPR
LOCATION:Clarke
SUMMARY:How to Design Highly Reliable Digital Electronics
CLASS:PUBLIC
DESCRIPTION:https://calendify.com/session/kz146GkqOPR
DTSTAMP:20260423T203537Z
CREATED:20200429T014050Z
LAST-MODIFIED:20200429T014050Z
END:VEVENT
END:VCALENDAR