BEGIN:VCALENDAR
VERSION:2.0
PRODID:calendify.com
BEGIN:VEVENT
UID:calendify-session-kz146R314PR
DTSTART:20211228T101500Z
SEQUENCE:0
TRANSP:OPAQUE
DTEND:20211228T120800Z
URL:https://calendify.com/session/kz146R314PR
LOCATION:rC3 Lounge
SUMMARY:rygen
CLASS:PUBLIC
DESCRIPTION:https://calendify.com/session/kz146R314PR
DTSTAMP:20260420T140217Z
CREATED:20211226T205000Z
LAST-MODIFIED:20211230T225002Z
END:VEVENT
END:VCALENDAR