BEGIN:VCALENDAR
VERSION:2.0
PRODID:calendify.com
BEGIN:VEVENT
UID:calendify-session-kz146RG14PR
DTSTART:20210310T170000Z
SEQUENCE:0
TRANSP:OPAQUE
DTEND:20210310T180000Z
URL:https://calendify.com/session/kz146RG14PR
LOCATION:Zoom Room 8A
SUMMARY:Measuring Mindset Shifts: Reflections on Planning and Measurement f
 rom the Ashoka and Mozilla Foundation Learning Roundtable
CLASS:PUBLIC
DESCRIPTION:https://calendify.com/session/kz146RG14PR
DTSTAMP:20260420T185437Z
CREATED:20210426T094927Z
LAST-MODIFIED:20210426T094927Z
END:VEVENT
END:VCALENDAR