BEGIN:VCALENDAR
VERSION:2.0
PRODID:calendify.com
BEGIN:VEVENT
UID:calendify-session-kz146RR54PR
DTSTART:20210315T144500Z
SEQUENCE:0
TRANSP:OPAQUE
DTEND:20210315T154500Z
URL:https://calendify.com/session/kz146RR54PR
LOCATION:Zoom Room 3B
SUMMARY:Virtual Embassy 4
CLASS:PUBLIC
DESCRIPTION:https://calendify.com/session/kz146RR54PR
DTSTAMP:20260420T215616Z
CREATED:20210426T094928Z
LAST-MODIFIED:20210426T094928Z
END:VEVENT
END:VCALENDAR