BEGIN:VCALENDAR
VERSION:2.0
PRODID:calendify.com
BEGIN:VEVENT
UID:calendify-session-kz146RX14PR
DTSTART:20210309T181500Z
SEQUENCE:0
TRANSP:OPAQUE
DTEND:20210309T191500Z
URL:https://calendify.com/session/kz146RX14PR
LOCATION:Zoom Room 6B
SUMMARY:‘Women and girls use computers\, men and boys love them.’ :: Ge
 nder diversity for Trustworthy AI
CLASS:PUBLIC
DESCRIPTION:https://calendify.com/session/kz146RX14PR
DTSTAMP:20260420T220427Z
CREATED:20210426T094927Z
LAST-MODIFIED:20210426T094927Z
END:VEVENT
END:VCALENDAR