BEGIN:VCALENDAR
VERSION:2.0
PRODID:calendify.com
BEGIN:VEVENT
UID:calendify-session-kz146RbB4PR
DTSTART:20211229T200000Z
SEQUENCE:0
TRANSP:OPAQUE
DTEND:20211229T210000Z
URL:https://calendify.com/session/kz146RbB4PR
LOCATION:Chaosstudio Hamburg
SUMMARY:Netzwerkanalyse für Dummies – mit TinyCheck
CLASS:PUBLIC
DESCRIPTION:https://calendify.com/session/kz146RbB4PR
DTSTAMP:20260420T061306Z
CREATED:20211220T014017Z
LAST-MODIFIED:20211231T100903Z
END:VEVENT
END:VCALENDAR