BEGIN:VCALENDAR
VERSION:2.0
PRODID:calendify.com
BEGIN:VEVENT
UID:calendify-session-kz146Ro04PR
DTSTART:20211229T121500Z
SEQUENCE:0
TRANSP:OPAQUE
DTEND:20211229T123000Z
URL:https://calendify.com/session/kz146Ro04PR
LOCATION:Haecksen Zur großartige Ada
SUMMARY:Q&A Kaffeefahrt ins Darknet
CLASS:PUBLIC
DESCRIPTION:https://calendify.com/session/kz146Ro04PR
DTSTAMP:20260424T135347Z
CREATED:20211220T014017Z
LAST-MODIFIED:20211230T225002Z
END:VEVENT
END:VCALENDAR