BEGIN:VCALENDAR
VERSION:2.0
PRODID:calendify.com
BEGIN:VEVENT
UID:calendify-session-kz146ZAJ4PR
DTSTART:20190601T131500Z
SEQUENCE:0
TRANSP:OPAQUE
DTEND:20190601T141500Z
URL:https://calendify.com/session/kz146ZAJ4PR
LOCATION:ZKM_AckerSpace
SUMMARY:Über die Mauer klettern - WiFi Paywalls umgehen?
CLASS:PUBLIC
DESCRIPTION:https://calendify.com/session/kz146ZAJ4PR
DTSTAMP:20260422T023111Z
CREATED:20200509T115123Z
LAST-MODIFIED:20200509T115123Z
END:VEVENT
END:VCALENDAR