BEGIN:VCALENDAR
VERSION:2.0
PRODID:calendify.com
BEGIN:VEVENT
UID:calendify-session-kz146Ze54PR
DTSTART:20200202T080000Z
SEQUENCE:0
TRANSP:OPAQUE
DTEND:20200202T084000Z
URL:https://calendify.com/session/kz146Ze54PR
LOCATION:UB4.136
SUMMARY:Continuous Delivery starts with Continuous Infrastructure
CLASS:PUBLIC
DESCRIPTION:https://calendify.com/session/kz146Ze54PR
DTSTAMP:20260420T124403Z
CREATED:20200513T234735Z
LAST-MODIFIED:20210426T093310Z
END:VEVENT
END:VCALENDAR