BEGIN:VCALENDAR
VERSION:2.0
PRODID:calendify.com
BEGIN:VEVENT
UID:calendify-session-kz146dL7MPR
DTSTART:20220725T133000Z
SEQUENCE:0
TRANSP:OPAQUE
DTEND:20220725T150000Z
URL:https://calendify.com/session/kz146dL7MPR
LOCATION:HSNL Village (Muze / NLnet tent)
SUMMARY:HSNL: Data custodian\, Identity and governement - Conduction
CLASS:PUBLIC
DESCRIPTION:https://calendify.com/session/kz146dL7MPR
DTSTAMP:20260423T214336Z
CREATED:20220725T094113Z
LAST-MODIFIED:20220726T182703Z
END:VEVENT
END:VCALENDAR