BEGIN:VCALENDAR
VERSION:2.0
PRODID:calendify.com
BEGIN:VEVENT
UID:calendify-session-kz146dZXMPR
DTSTART:20221228T151500Z
SEQUENCE:0
TRANSP:OPAQUE
DTEND:20221228T154500Z
URL:https://calendify.com/session/kz146dZXMPR
LOCATION:HIP - Track 1 - Room 5
SUMMARY:Reviving open-source projects: at the example of OpenTracks
CLASS:PUBLIC
DESCRIPTION:https://calendify.com/session/kz146dZXMPR
DTSTAMP:20260423T091435Z
CREATED:20221218T163040Z
LAST-MODIFIED:20221230T225002Z
END:VEVENT
END:VCALENDAR