BEGIN:VCALENDAR
VERSION:2.0
PRODID:calendify.com
BEGIN:VEVENT
UID:calendify-session-kz146db7MPR
DTSTART:20230609T154500Z
SEQUENCE:0
TRANSP:OPAQUE
DTEND:20230609T161500Z
URL:https://calendify.com/session/kz146db7MPR
LOCATION:Blauer Salon
SUMMARY:Film Photography - It's (not) magic
CLASS:PUBLIC
DESCRIPTION:https://calendify.com/session/kz146db7MPR
DTSTAMP:20260422T155754Z
CREATED:20230527T091821Z
LAST-MODIFIED:20230611T215002Z
END:VEVENT
END:VCALENDAR