BEGIN:VCALENDAR
VERSION:2.0
PRODID:calendify.com
BEGIN:VEVENT
UID:calendify-session-kz146de1MPR
DTSTART:20230606T110000Z
SEQUENCE:0
TRANSP:OPAQUE
DTEND:20230606T113000Z
URL:https://calendify.com/session/kz146de1MPR
LOCATION:Stage 6
SUMMARY:Sind Blockchains eine Alternative zu unserem Finanzsystem? Über Si
 nn und Unsinn einer polarisierenden Technologie
CLASS:PUBLIC
DESCRIPTION:https://calendify.com/session/kz146de1MPR
DTSTAMP:20260420T215547Z
CREATED:20230604T163809Z
LAST-MODIFIED:20230606T124212Z
END:VEVENT
END:VCALENDAR