BEGIN:VCALENDAR
VERSION:2.0
PRODID:calendify.com
BEGIN:VEVENT
UID:calendify-session-kz146dqBMPR
DTSTART:20230606T163000Z
SEQUENCE:0
TRANSP:OPAQUE
DTEND:20230606T180000Z
URL:https://calendify.com/session/kz146dqBMPR
LOCATION:Meet Up Garten
SUMMARY:Shit-Bingo mit Goldeimer
CLASS:PUBLIC
DESCRIPTION:https://calendify.com/session/kz146dqBMPR
DTSTAMP:20260424T054727Z
CREATED:20230604T163803Z
LAST-MODIFIED:20230606T124205Z
END:VEVENT
END:VCALENDAR