BEGIN:VCALENDAR
VERSION:2.0
PRODID:calendify.com
BEGIN:VEVENT
UID:calendify-session-kz146p05MPR
DTSTART:20241227T150000Z
SEQUENCE:0
TRANSP:OPAQUE
DTEND:20241227T160000Z
URL:https://calendify.com/session/kz146p05MPR
LOCATION:Saal 1
SUMMARY:Investigating the Iridium Satellite Network
CLASS:PUBLIC
DESCRIPTION:https://calendify.com/session/kz146p05MPR
DTSTAMP:20260422T021256Z
CREATED:20241208T214807Z
LAST-MODIFIED:20251019T194651Z
END:VEVENT
END:VCALENDAR