BEGIN:VCALENDAR
VERSION:2.0
PRODID:calendify.com
BEGIN:VEVENT
UID:calendify-session-kz146pAqMPR
DTSTART:20240921T200000Z
SEQUENCE:0
TRANSP:OPAQUE
DTEND:20240921T210000Z
URL:https://calendify.com/session/kz146pAqMPR
LOCATION:Bar
SUMMARY:Live Synthesizer Session
CLASS:PUBLIC
DESCRIPTION:https://calendify.com/session/kz146pAqMPR
DTSTAMP:20260422T164511Z
CREATED:20241208T220338Z
LAST-MODIFIED:20241208T220338Z
END:VEVENT
END:VCALENDAR