BEGIN:VCALENDAR
VERSION:2.0
PRODID:calendify.com
BEGIN:VEVENT
UID:calendify-session-kz146r3V4PR
DTSTART:20220609T180000Z
SEQUENCE:0
TRANSP:OPAQUE
DTEND:20220609T190000Z
URL:https://calendify.com/session/kz146r3V4PR
LOCATION:Stage 3
SUMMARY:RCE - #RemoteCodeExecution
CLASS:PUBLIC
DESCRIPTION:https://calendify.com/session/kz146r3V4PR
DTSTAMP:20260423T172450Z
CREATED:20220526T162946Z
LAST-MODIFIED:20220613T235204Z
END:VEVENT
END:VCALENDAR