BEGIN:VCALENDAR
VERSION:2.0
PRODID:calendify.com
BEGIN:VEVENT
UID:calendify-session-kz146rd14PR
DTSTART:20161227T204500Z
SEQUENCE:0
TRANSP:OPAQUE
DTEND:20161227T214500Z
URL:https://calendify.com/session/kz146rd14PR
LOCATION:Saal 6
SUMMARY:Netzpolitik in Österreich
CLASS:PUBLIC
DESCRIPTION:https://calendify.com/session/kz146rd14PR
DTSTAMP:20260423T082345Z
CREATED:20220415T135302Z
LAST-MODIFIED:20220415T135302Z
END:VEVENT
END:VCALENDAR