BEGIN:VCALENDAR
VERSION:2.0
PRODID:calendify.com
BEGIN:VEVENT
UID:calendify-session-kz146rpJ4PR
DTSTART:20161230T133000Z
SEQUENCE:0
TRANSP:OPAQUE
DTEND:20161230T140000Z
URL:https://calendify.com/session/kz146rpJ4PR
LOCATION:Saal 2
SUMMARY:Privatisierung der Rechtsdurchsetzung
CLASS:PUBLIC
DESCRIPTION:https://calendify.com/session/kz146rpJ4PR
DTSTAMP:20260420T184015Z
CREATED:20220415T135303Z
LAST-MODIFIED:20220415T135303Z
END:VEVENT
END:VCALENDAR