BEGIN:VCALENDAR
VERSION:2.0
PRODID:calendify.com
BEGIN:VEVENT
UID:calendify-session-kz146rv04PR
DTSTART:20220608T130000Z
SEQUENCE:0
TRANSP:OPAQUE
DTEND:20220608T133000Z
URL:https://calendify.com/session/kz146rv04PR
LOCATION:Lightning Box 1
SUMMARY:Die Herausforderungen der Arbeitswelt von morgen - und wie wir sie 
 gemeinsam lösen
CLASS:PUBLIC
DESCRIPTION:https://calendify.com/session/kz146rv04PR
DTSTAMP:20260423T161225Z
CREATED:20220526T162948Z
LAST-MODIFIED:20220613T235204Z
END:VEVENT
END:VCALENDAR