BEGIN:VCALENDAR
VERSION:2.0
PRODID:calendify.com
BEGIN:VEVENT
UID:calendify-session-kz146w10OPR
DTSTART:20231230T113000Z
SEQUENCE:0
TRANSP:OPAQUE
DTEND:20231230T121000Z
URL:https://calendify.com/session/kz146w10OPR
LOCATION:Fireshonks
SUMMARY:Och Menno-Fails bei Unterhaltungsprodukten
CLASS:PUBLIC
DESCRIPTION:https://calendify.com/session/kz146w10OPR
DTSTAMP:20260423T043128Z
CREATED:20231218T013833Z
LAST-MODIFIED:20240401T142934Z
END:VEVENT
END:VCALENDAR