BEGIN:VCALENDAR
VERSION:2.0
PRODID:calendify.com
BEGIN:VEVENT
UID:calendify-session-kz146w3wOPR
DTSTART:20231230T160000Z
SEQUENCE:0
TRANSP:OPAQUE
DTEND:20231230T170000Z
URL:https://calendify.com/session/kz146w3wOPR
LOCATION:Lounge
SUMMARY:Live Coding Set - Sound&Visual
CLASS:PUBLIC
DESCRIPTION:https://calendify.com/session/kz146w3wOPR
DTSTAMP:20260423T004112Z
CREATED:20231227T030003Z
LAST-MODIFIED:20240401T142934Z
END:VEVENT
END:VCALENDAR