BEGIN:VCALENDAR
VERSION:2.0
PRODID:calendify.com
BEGIN:VEVENT
UID:calendify-session-kz146w7JOPR
DTSTART:20231227T170000Z
SEQUENCE:0
TRANSP:OPAQUE
DTEND:20231227T180000Z
URL:https://calendify.com/session/kz146w7JOPR
LOCATION:Stage H
SUMMARY:chatmail: self-hosting email servers\, optimized for chatting with 
 Delta Chat
CLASS:PUBLIC
DESCRIPTION:https://calendify.com/session/kz146w7JOPR
DTSTAMP:20260422T093733Z
CREATED:20231225T152002Z
LAST-MODIFIED:20240401T142932Z
END:VEVENT
END:VCALENDAR