BEGIN:VCALENDAR
VERSION:2.0
PRODID:calendify.com
BEGIN:VEVENT
UID:calendify-session-kz146wBVOPR
DTSTART:20240607T140000Z
SEQUENCE:0
TRANSP:OPAQUE
DTEND:20240607T143000Z
URL:https://calendify.com/session/kz146wBVOPR
LOCATION:Bühne
SUMMARY:Anreise (Opening)
CLASS:PUBLIC
DESCRIPTION:https://calendify.com/session/kz146wBVOPR
DTSTAMP:20260423T091845Z
CREATED:20240531T124146Z
LAST-MODIFIED:20240610T213338Z
END:VEVENT
END:VCALENDAR