BEGIN:VCALENDAR
VERSION:2.0
PRODID:calendify.com
BEGIN:VEVENT
UID:calendify-session-kz146wDBOPR
DTSTART:20231228T150000Z
SEQUENCE:0
TRANSP:OPAQUE
DTEND:20231228T170000Z
URL:https://calendify.com/session/kz146wDBOPR
LOCATION:Saal Granville
SUMMARY:Lightning Talks Day 2
CLASS:PUBLIC
DESCRIPTION:https://calendify.com/session/kz146wDBOPR
DTSTAMP:20260421T202506Z
CREATED:20231215T204820Z
LAST-MODIFIED:20240401T142932Z
END:VEVENT
END:VCALENDAR