BEGIN:VCALENDAR
VERSION:2.0
PRODID:calendify.com
BEGIN:VEVENT
UID:calendify-session-kz146wE7OPR
DTSTART:20230721T110000Z
SEQUENCE:0
TRANSP:OPAQUE
DTEND:20230721T150000Z
URL:https://calendify.com/session/kz146wE7OPR
LOCATION:Brettspielecke
SUMMARY:Brettspiele
CLASS:PUBLIC
DESCRIPTION:https://calendify.com/session/kz146wE7OPR
DTSTAMP:20260422T153230Z
CREATED:20230806T113705Z
LAST-MODIFIED:20230806T113705Z
END:VEVENT
END:VCALENDAR