BEGIN:VCALENDAR
VERSION:2.0
PRODID:calendify.com
BEGIN:VEVENT
UID:calendify-session-kz146wP7OPR
DTSTART:20231230T124000Z
SEQUENCE:0
TRANSP:OPAQUE
DTEND:20231230T130000Z
URL:https://calendify.com/session/kz146wP7OPR
LOCATION:Saal E
SUMMARY:Aktionstag für trans* Gesundheit 🏳️‍⚧️ - fight the cist
 em!
CLASS:PUBLIC
DESCRIPTION:https://calendify.com/session/kz146wP7OPR
DTSTAMP:20260423T055730Z
CREATED:20231229T001003Z
LAST-MODIFIED:20240401T142934Z
END:VEVENT
END:VCALENDAR