BEGIN:VCALENDAR
VERSION:2.0
PRODID:calendify.com
BEGIN:VEVENT
UID:calendify-session-kz146wV5OPR
DTSTART:20231228T140000Z
SEQUENCE:0
TRANSP:OPAQUE
DTEND:20231228T160000Z
URL:https://calendify.com/session/kz146wV5OPR
LOCATION:Art and Play Workshop table [H]
SUMMARY:Art and Play: Livevektorskizzen
CLASS:PUBLIC
DESCRIPTION:https://calendify.com/session/kz146wV5OPR
DTSTAMP:20260423T015628Z
CREATED:20231226T202002Z
LAST-MODIFIED:20240401T142932Z
END:VEVENT
END:VCALENDAR