BEGIN:VCALENDAR
VERSION:2.0
PRODID:calendify.com
BEGIN:VEVENT
UID:calendify-session-kz146wZ7OPR
DTSTART:20230715T080000Z
SEQUENCE:0
TRANSP:OPAQUE
DTEND:20230715T090000Z
URL:https://calendify.com/session/kz146wZ7OPR
LOCATION:Raum 2.10
SUMMARY:rtl433\, sniffing the SRD (Short-Range Devices) radio-band
CLASS:PUBLIC
DESCRIPTION:https://calendify.com/session/kz146wZ7OPR
DTSTAMP:20260420T181001Z
CREATED:20230806T113150Z
LAST-MODIFIED:20230806T113150Z
END:VEVENT
END:VCALENDAR