BEGIN:VCALENDAR
VERSION:2.0
PRODID:calendify.com
BEGIN:VEVENT
UID:calendify-session-kz146wvqOPR
DTSTART:20240330T184500Z
SEQUENCE:0
TRANSP:OPAQUE
DTEND:20240330T194500Z
URL:https://calendify.com/session/kz146wvqOPR
LOCATION:Bitmarckplatz - D003
SUMMARY:Functional correctness -- Haskell-ing your way to reliable code
CLASS:PUBLIC
DESCRIPTION:https://calendify.com/session/kz146wvqOPR
DTSTAMP:20260423T140004Z
CREATED:20240328T125150Z
LAST-MODIFIED:20240401T142841Z
END:VEVENT
END:VCALENDAR