BEGIN:VCALENDAR
VERSION:2.0
PRODID:calendify.com
BEGIN:VEVENT
UID:calendify-session-kz146wxwOPR
DTSTART:20231229T090000Z
SEQUENCE:0
TRANSP:OPAQUE
DTEND:20231229T130000Z
URL:https://calendify.com/session/kz146wxwOPR
LOCATION:Art and Play Workshop table [H]
SUMMARY:Art and Play: DIY photolab research #2
CLASS:PUBLIC
DESCRIPTION:https://calendify.com/session/kz146wxwOPR
DTSTAMP:20260423T043900Z
CREATED:20231227T212003Z
LAST-MODIFIED:20240401T142933Z
END:VEVENT
END:VCALENDAR