BEGIN:VCALENDAR
VERSION:2.0
PRODID:calendify.com
BEGIN:VEVENT
UID:calendify-session-lEZgp0ezgnP
DTSTART:20260131T093500Z
SEQUENCE:0
TRANSP:OPAQUE
DTEND:20260131T094500Z
URL:https://calendify.com/session/lEZgp0ezgnP
LOCATION:H.1309 (Van Rijn)
SUMMARY:Kick off browser and web platform devroom
CLASS:PUBLIC
DESCRIPTION:https://calendify.com/session/lEZgp0ezgnP
DTSTAMP:20260424T072552Z
CREATED:20260131T063245Z
LAST-MODIFIED:20260201T163222Z
END:VEVENT
END:VCALENDAR