BEGIN:VCALENDAR
VERSION:2.0
PRODID:calendify.com
BEGIN:VEVENT
UID:calendify-session-lEZgp626OnP
DTSTART:20191228T151000Z
SEQUENCE:0
TRANSP:OPAQUE
DTEND:20191228T155000Z
URL:https://calendify.com/session/lEZgp626OnP
LOCATION:Dijkstra
SUMMARY:Polizei-Datenbanken und Minderheiten: Staatliche Stigmatisierung un
 d Diskriminierung von Sinti und Roma
CLASS:PUBLIC
DESCRIPTION:https://calendify.com/session/lEZgp626OnP
DTSTAMP:20260423T162218Z
CREATED:20200429T014056Z
LAST-MODIFIED:20200429T014056Z
END:VEVENT
END:VCALENDAR