BEGIN:VCALENDAR
VERSION:2.0
PRODID:calendify.com
BEGIN:VEVENT
UID:calendify-session-lEZgpE064nP
DTSTART:20240922T100000Z
SEQUENCE:0
TRANSP:OPAQUE
DTEND:20240922T104500Z
URL:https://calendify.com/session/lEZgpE064nP
LOCATION:Kleiner Saal
SUMMARY:Abstimmungsergebnisse im Europäischen Parlament - einfach und durc
 hsuchbar
CLASS:PUBLIC
DESCRIPTION:https://calendify.com/session/lEZgpE064nP
DTSTAMP:20260420T221053Z
CREATED:20241208T220338Z
LAST-MODIFIED:20241208T220338Z
END:VEVENT
END:VCALENDAR