BEGIN:VCALENDAR
VERSION:2.0
PRODID:calendify.com
BEGIN:VEVENT
UID:calendify-session-lEZgpEBo4nP
DTSTART:20241227T213000Z
SEQUENCE:0
TRANSP:OPAQUE
DTEND:20241227T233000Z
URL:https://calendify.com/session/lEZgpEBo4nP
LOCATION:Hardware Hacking Area -- Upper
SUMMARY:Soldering Sound/Video Kits with Noisio (Day 1)
CLASS:PUBLIC
DESCRIPTION:https://calendify.com/session/lEZgpEBo4nP
DTSTAMP:20260423T162700Z
CREATED:20241227T141500Z
LAST-MODIFIED:20251019T194651Z
END:VEVENT
END:VCALENDAR