BEGIN:VCALENDAR
VERSION:2.0
PRODID:calendify.com
BEGIN:VEVENT
UID:calendify-session-lEZgpEEa4nP
DTSTART:20240920T140000Z
SEQUENCE:0
TRANSP:OPAQUE
DTEND:20240920T173000Z
URL:https://calendify.com/session/lEZgpEEa4nP
LOCATION:Seminarraum
SUMMARY:State & Me: For more anarchism in our lives
CLASS:PUBLIC
DESCRIPTION:https://calendify.com/session/lEZgpEEa4nP
DTSTAMP:20260420T201955Z
CREATED:20241208T220338Z
LAST-MODIFIED:20241208T220338Z
END:VEVENT
END:VCALENDAR